BEGIN:VCALENDAR
VERSION:2.0
PRODID:-//Armonie d'Itria APS//Eventi//IT
BEGIN:VEVENT
UID:69ea397c680c5@armonieditria.it
DTSTAMP:20260423T152340Z
DTSTART:20251207T190000Z
DTEND:20251207T210000Z
SUMMARY:Giro di Banda per Vigilia Immacolata
LOCATION:Quartiere Parrocchia di Sant'Antonio, Centro Storico -
DESCRIPTION:✨ Tradizione e Festa: La Vigilia dell'Immacolata a Martina Franca! ✨\n\nVi invitiamo a partecipare alle celebrazioni serali che aprono ufficialmente il periodo natalizio!\n\nDOMENICA 7 DICEMBRE, la Parrocchia di Sant’Antonio ospita gli eventi principali, con il sostegno della Banda Musicale “Città di Martina Franca” e dell’Associazione Armonie d’Itria APS.\n\nOre 19:00: Santa Messa Solenne in onore dell'Immacolata, celebrata da S.E.R. Mons. Ciro Miniero.\n\nA seguire: Tradizionale giro bandistico per le vie limitrofe alla Parrocchia e la gustosa PETTOLATA per tutti i presenti!\n\nUn ringraziamento speciale a: Parrocchia di Sant’Antonio, Arciconfraternita dell’Immacolata degli Artieri e Amministrazione Comunale di Martina Franca.\n\nNon mancate!
END:VEVENT
END:VCALENDAR