BEGIN:VCALENDAR
VERSION:2.0
PRODID:-//Armonie d'Itria APS//Eventi//IT
BEGIN:VEVENT
UID:69ea3a19e6a94@armonieditria.it
DTSTAMP:20260423T152617Z
DTSTART:20251207T090000Z
DTEND:20251207T110000Z
SUMMARY:Giro di Banda per Vigilia Immacolata
LOCATION:Quartiere Parrocchia di Sant'Antonio, Centro Storico -
DESCRIPTION:Domenica&nbsp;7 dicembre, dalle ore 09:00, la Banda Musicale “Città di Martina Franca” e l’Associazione Armonie d’Itria APS inaugureranno le tradizioni del periodo natalizio con il consueto giro di banda per la Vigilia dell’Immacolata. I musicisti attraverseranno le vie del centro portando nelle strade l’atmosfera luminosa che introduce l’Avvento, in un appuntamento semplice ma sentito, che ogni anno avvicina comunità e territorio. Un ringraziamento va alla Parrocchia di Sant’Antonio, all’Arciconfraternita dell’Immacolata degli Artieri e all’Amministrazione Comunale di Martina Franca per il sostegno e la collaborazione nella preparazione dell’evento. Il giro bandistico dell’Immacolata è una tradizione viva da decenni: un momento che apre il Natale martinese con musica, presenza e partecipazione.
END:VEVENT
END:VCALENDAR