BEGIN:VCALENDAR
VERSION:2.0
PRODID:-//Armonie d'Itria APS//Eventi//IT
BEGIN:VEVENT
UID:69ea38b9be7bd@armonieditria.it
DTSTAMP:20260423T152025Z
DTSTART:20251208T103000Z
DTEND:20251208T120000Z
SUMMARY:Giro di Banda per Festa Immacolata
LOCATION:Quartiere Parrocchia di Sant'Antonio, Centro Storico -
DESCRIPTION:✨ Festa dell'Immacolata: Tradizione, Fede e Pastorali in Città! ✨\n\nUn momento solenne e sentito che unisce la comunità di Martina Franca.\n\nLunedì 8 DICEMBRE, onoriamo insieme la Vergine nel cuore della città.\n\nOre 11:00 Dalla Parrocchia di Sant’Antonio partirà la suggestiva Processione che si snoderà per le vie della Parrocchia e del Centro Storico. Un atto di fede e un momento di unità comunitaria.\n\n***\n\nLA TRADIZIONE MUSICALE\n\nLa Banda Musicale “Città di Martina Franca” e l’Associazione Armonie d’Itria APS porteranno il clima natalizio e le note pastorali in giro per la città. La musica sarà l’eco della festa, diffondendo la gioia dell'Avvento e accompagnando idealmente il cammino della comunità.\n\nRingraziamo per il sostegno e la collaborazione: l’Arciconfraternita dell’Immacolata degli Artieri, l’Amministrazione Comunale di Martina Franca, la Parrocchia di Sant’Antonio, e in particolare il parroco Don Mimmo Sergio per la sua guida.
END:VEVENT
END:VCALENDAR