BEGIN:VCALENDAR
VERSION:2.0
PRODID:-//Armonie d'Itria APS//Eventi//IT
BEGIN:VEVENT
UID:69ea51c42cf9f@armonieditria.it
DTSTAMP:20260423T170716Z
DTSTART:20251130T183000Z
DTEND:20251130T203000Z
SUMMARY:Giro di Banda per Cristo Re
LOCATION:Quartiere Parrocchia di Cristo Re - Zona Via Alessandro Fighera, Viale dei Lecci
DESCRIPTION:Festa di Santa Cecilia – La Banda Musicale “Città di Martina Franca”, diretta dal Maestro Caterina Santoro, porta l’atmosfera natalizia nel quartiere della Parrocchia Cristo Re con il tradizionale giro per le vie, animando l’incontro con musiche della tradizione bandistica, pastorali natalizie e brani d’apertura del batale.\n\nAlle ore 19:00&nbsp;sarà celebrata la Santa Messa da Padre Paolo Lomartire nella Parrocchia Cristo Re; a seguire, pettolata comunitaria aperta a tutti i presenti.\n\nL’evento rientra nel cartellone Armonie di Natale 2025\n
END:VEVENT
END:VCALENDAR